BEGIN:VCALENDAR
VERSION:2.0
METHOD:PUBLISH
CALSCALE:GREGORIAN
PRODID:KKTIX
BEGIN:VTIMEZONE
TZID:Taipei
END:VTIMEZONE
BEGIN:VEVENT
DESCRIPTION:https://pycontw.kktix.cc/events/pycontw2017-tutorial-numpy
DTEND:20170528T090000Z
DTSTAMP:20180626T080946Z
DTSTART:20170528T021000Z
CLASS:PUBLIC
LOCATION: (106台北市大安區復興南路一段293號) CLBC大安本館 / 106台北市大安區復興南路一段293號
SEQUENCE:0
SUMMARY:PyCon Taiwan 2017 Tutorial - 實做數學: NumPy 入門
UID:2018-06-26T16:09:46+08:00_117430176@web-kktix-i-0699a82e73b985b65
END:VEVENT
END:VCALENDAR
