BEGIN:VCALENDAR
VERSION:2.0
METHOD:PUBLISH
CALSCALE:GREGORIAN
PRODID:KKTIX
BEGIN:VTIMEZONE
TZID:Taipei
END:VTIMEZONE
BEGIN:VEVENT
DESCRIPTION:https://pycontw.kktix.cc/events/pycontw2017-tutorial-ai-game
DTEND:20170521T093000Z
DTSTAMP:20180626T080935Z
DTSTART:20170521T013000Z
CLASS:PUBLIC
LOCATION: (105台北市松山區復興北路99號) PCBC犇亞會議中心 / 105台北市松山區復興北路99號
SEQUENCE:0
SUMMARY:PyCon Taiwan 2017 Tutorial - 上雲端、練AI、打電玩！ 從遊戲中誕生的人工智慧之手把手教學
UID:2018-06-26T16:09:35+08:00_351967236@web-kktix-i-0699a82e73b985b65
END:VEVENT
END:VCALENDAR
